BEGIN:VCALENDAR
VERSION:2.0
PRODID:-//Clube de Montanhismo da Guarda - ECPv6.15.18//NONSGML v1.0//EN
CALSCALE:GREGORIAN
METHOD:PUBLISH
X-WR-CALNAME:Clube de Montanhismo da Guarda
X-ORIGINAL-URL:https://www.montanhismo-guarda.pt/portal
X-WR-CALDESC:Eventos para Clube de Montanhismo da Guarda
REFRESH-INTERVAL;VALUE=DURATION:PT1H
X-Robots-Tag:noindex
X-PUBLISHED-TTL:PT1H
BEGIN:VTIMEZONE
TZID:Europe/Lisbon
BEGIN:DAYLIGHT
TZOFFSETFROM:+0000
TZOFFSETTO:+0100
TZNAME:WEST
DTSTART:20250330T010000
END:DAYLIGHT
BEGIN:STANDARD
TZOFFSETFROM:+0100
TZOFFSETTO:+0000
TZNAME:WET
DTSTART:20251026T010000
END:STANDARD
BEGIN:DAYLIGHT
TZOFFSETFROM:+0000
TZOFFSETTO:+0100
TZNAME:WEST
DTSTART:20260329T010000
END:DAYLIGHT
BEGIN:STANDARD
TZOFFSETFROM:+0100
TZOFFSETTO:+0000
TZNAME:WET
DTSTART:20261025T010000
END:STANDARD
BEGIN:DAYLIGHT
TZOFFSETFROM:+0000
TZOFFSETTO:+0100
TZNAME:WEST
DTSTART:20270328T010000
END:DAYLIGHT
BEGIN:STANDARD
TZOFFSETFROM:+0100
TZOFFSETTO:+0000
TZNAME:WET
DTSTART:20271031T010000
END:STANDARD
END:VTIMEZONE
BEGIN:VEVENT
DTSTART;TZID=Europe/Lisbon:20260426T000000
DTEND;TZID=Europe/Lisbon:20260426T235959
DTSTAMP:20260421T095603
CREATED:20260105T114730Z
LAST-MODIFIED:20260407T100809Z
UID:10000218-1777161600-1777247999@www.montanhismo-guarda.pt
SUMMARY:Prova de Orientação - OriBTT 2026
DESCRIPTION:Informações Gerais\n\n\n\nInformações Técnicas / Partidas\n\n\n\nInscrição\n\n\n\nLocalização\n\n\n\nContactos
URL:https://www.montanhismo-guarda.pt/portal/evento/prova-de-orientacao-oribtt-2026
CATEGORIES:BTT,Ciclismo,Competição,Orientação
ATTACH;FMTTYPE=image/jpeg:https://www.montanhismo-guarda.pt/portal/wp-content/uploads/2026/01/cartaz-OriBtt-2026-scaled.jpg
END:VEVENT
BEGIN:VEVENT
DTSTART;TZID=Europe/Lisbon:20260501T000000
DTEND;TZID=Europe/Lisbon:20260503T235959
DTSTAMP:20260421T095603
CREATED:20260105T115700Z
LAST-MODIFIED:20260420T160605Z
UID:10000219-1777593600-1777852799@www.montanhismo-guarda.pt
SUMMARY:Atividade no Montesinho
DESCRIPTION:Programa Provisório \n\n\n\n\n\nPrograma\n\n\n\nDia_18:45Concentração na Sede do CMGSaída da Sede do CMG12:00Chegada a Bragança [ver Campo Base]14:00Saída de Bragança em direção a Vilarinho (Espinhosela)≈15:00Marcha – Trilho Ribeira do Ornal≈3 horas de duração≈8 km de distância≈19:00Regresso a Bragança [ver Campo Base]20:00“Jantar-livre” [ver Refeições]Dia_28:30Saída de Bragança em direção à Aldeia de Montesinho9:30Marcha – Trilho da Malara Pequeno≈2 horas de duração≈7 km de distânciaalgum tempo livre para visitar Gimonde18:00Saída de Gimonde em direção a Bragança [ver Campo Base]≈20:00“Jantar-livre” [ver Refeições]Dia_39:00Saída de Bragança em direção à Aldeia de Rio de Onor10:00Marcha – Trilho O Lado Português de Rio de Onor≈2 horas de duração≈7 km de distância≈12:00visita livre à aldeia e “almoço/pic-nic” (o farnel ficará nos veículos para no fim da marcha podermos almoçar) [ver Refeições]14:00Saída de Rio de Onor em direção à Guarda≈17:30Chegada à Guarda e final da NOTA: Todos os horários apresentados poderão ser alterados/ajustados se a organização assim o entender – sempre em prol do grupo e da melhoria da atividade.NOTA: Os percursos poderão ser alterados – no sentido de melhor adaptar os percursos e/ou na proposta de “melhores” percursos.\n\n\n\nCampo Base\n\n\n\nO “campo-base” será em Bragança. \n\n\n\n(estamos em conversações com o município de Bragança para nos cederem alojamento “solo-duro” – num dos pavilhões/ginásio – em breve iremos dar mais informações!!) \n\n\n\nRefeições\n\n\n\nTodas as refeições são da responsabilidade dos participantes. \n\n\n\n\n\nInscrição\n\n\n\nEstamos a trabalhar para enriquecer este programa\, mas já se pode inscrever através do formulário a que pode aceder mais abaixo. \n\n\n\nExclusiva para sócios do Clube de Montanhismo da Guarda. \n\n\n\nComparticipação\n\n\n\n\nEm viatura do clube: 60€\n\n\n\nEm viatura própria: 30€\n\n\n\n\nTransporte\n\n\n\nO transporte em viaturas do clube é limitado\, e os sócios com quotas em dia têm prioridade de utilização. \n\n\n\nResponsáveis pela Atividade\n\n\n\nJoão Gonçalves (Contacto: 966 478 807) Chamada para rede móvel nacional \n\n\n\nJorge Guerra (Contacto: 969 057 943) Chamada para rede móvel nacional \n\n\n\n\n\n\n\n\n\nPagamentos\n\n\n\nPodem realizar os pagamentos (atividade e/ou seguro e/ou quota anual) para o NIB do clube – PT 50 0035 0360 000 33879431 17 – ou por via de MBWAY para o numero do clube – 966282054 – (identificando sempre o pagamento/sócio).
URL:https://www.montanhismo-guarda.pt/portal/evento/atividade-no-montesinho
CATEGORIES:Pedestrianismo
ATTACH;FMTTYPE=image/jpeg:https://www.montanhismo-guarda.pt/portal/wp-content/uploads/2026/01/Cartaz-Montesinho-2026_2-scaled.jpg
END:VEVENT
BEGIN:VEVENT
DTSTART;TZID=Europe/Lisbon:20260517T000000
DTEND;TZID=Europe/Lisbon:20260517T235959
DTSTAMP:20260421T095603
CREATED:20260105T115959Z
LAST-MODIFIED:20260420T191546Z
UID:10000220-1778976000-1779062399@www.montanhismo-guarda.pt
SUMMARY:Da Bouça à Varanda dos Pastores
DESCRIPTION:
URL:https://www.montanhismo-guarda.pt/portal/evento/lagoas-escondidas-da-estrela
CATEGORIES:Montanha
ATTACH;FMTTYPE=image/jpeg:https://www.montanhismo-guarda.pt/portal/wp-content/uploads/2026/01/Cartaz_TravessiaMaio2026-scaled.jpg
END:VEVENT
BEGIN:VEVENT
DTSTART;TZID=Europe/Lisbon:20260530T000000
DTEND;TZID=Europe/Lisbon:20260530T235959
DTSTAMP:20260421T095603
CREATED:20260105T120535Z
LAST-MODIFIED:20260420T163254Z
UID:10000221-1780099200-1780185599@www.montanhismo-guarda.pt
SUMMARY:Travessia em BTT — Ciclovia Bragança 2026
DESCRIPTION:
URL:https://www.montanhismo-guarda.pt/portal/evento/travessia-em-btt-ciclovia-braganca-2026
CATEGORIES:BTT,Ciclismo
ATTACH;FMTTYPE=image/jpeg:https://www.montanhismo-guarda.pt/portal/wp-content/uploads/2026/01/Cartaz_BTTCicloviaBraganca2026-scaled.jpg
END:VEVENT
BEGIN:VEVENT
DTSTART;TZID=Europe/Lisbon:20260604T000000
DTEND;TZID=Europe/Lisbon:20260607T235959
DTSTAMP:20260421T095603
CREATED:20260105T144104Z
LAST-MODIFIED:20260304T221434Z
UID:10000222-1780531200-1780876799@www.montanhismo-guarda.pt
SUMMARY:Atividade nos Picos de Europa
DESCRIPTION:
URL:https://www.montanhismo-guarda.pt/portal/evento/atividade-nos-picos-de-europa
CATEGORIES:Montanha,Pedestrianismo
ATTACH;FMTTYPE=image/jpeg:https://www.montanhismo-guarda.pt/portal/wp-content/uploads/2026/01/Cartaz-Picos-Europa-2026-scaled.jpg
END:VEVENT
BEGIN:VEVENT
DTSTART;TZID=Europe/Lisbon:20260620T000000
DTEND;TZID=Europe/Lisbon:20260621T235959
DTSTAMP:20260421T095603
CREATED:20260105T150456Z
LAST-MODIFIED:20260317T213225Z
UID:10000223-1781913600-1782086399@www.montanhismo-guarda.pt
SUMMARY:Lagoas Recônditas de Gredos
DESCRIPTION:
URL:https://www.montanhismo-guarda.pt/portal/evento/entre-ocultos-circos-glaciarios
CATEGORIES:Montanha
ATTACH;FMTTYPE=image/jpeg:https://www.montanhismo-guarda.pt/portal/wp-content/uploads/2026/01/Cartaz_LagoasReconditasGredos_2026-scaled.jpg
END:VEVENT
BEGIN:VEVENT
DTSTART;TZID=Europe/Lisbon:20260719T000000
DTEND;TZID=Europe/Lisbon:20260719T235959
DTSTAMP:20260421T095603
CREATED:20260105T151014Z
LAST-MODIFIED:20260420T160851Z
UID:10000225-1784419200-1784505599@www.montanhismo-guarda.pt
SUMMARY:No Trilho Onde o Morto Matou o Vivo
DESCRIPTION:Serra da Arada / Freita
URL:https://www.montanhismo-guarda.pt/portal/evento/marcha-junho-2026
CATEGORIES:Pedestrianismo
ATTACH;FMTTYPE=image/jpeg:https://www.montanhismo-guarda.pt/portal/wp-content/uploads/2026/01/Cartaz-MarchaJulho2026-scaled.jpg
END:VEVENT
BEGIN:VEVENT
DTSTART;TZID=Europe/Lisbon:20260725T000000
DTEND;TZID=Europe/Lisbon:20260725T235959
DTSTAMP:20260421T095603
CREATED:20260105T150747Z
LAST-MODIFIED:20260317T213503Z
UID:10000224-1784937600-1785023999@www.montanhismo-guarda.pt
SUMMARY:Travessia Noturna 2026
DESCRIPTION:
URL:https://www.montanhismo-guarda.pt/portal/evento/travessia-noturna-2026
CATEGORIES:Montanha
ATTACH;FMTTYPE=image/jpeg:https://www.montanhismo-guarda.pt/portal/wp-content/uploads/2026/01/Cartaz_TravessiaNoturna2026-scaled.jpg
END:VEVENT
BEGIN:VEVENT
DTSTART;TZID=Europe/Lisbon:20260905T000000
DTEND;TZID=Europe/Lisbon:20260905T235959
DTSTAMP:20260421T095603
CREATED:20260105T152111Z
LAST-MODIFIED:20260105T152118Z
UID:10000226-1788566400-1788652799@www.montanhismo-guarda.pt
SUMMARY:Sunset - Pôr do Sol
DESCRIPTION:
URL:https://www.montanhismo-guarda.pt/portal/evento/sunset-por-do-sol
CATEGORIES:Corrida de montanha,Social
END:VEVENT
BEGIN:VEVENT
DTSTART;TZID=Europe/Lisbon:20260920T000000
DTEND;TZID=Europe/Lisbon:20260920T235959
DTSTAMP:20260421T095603
CREATED:20260105T152337Z
LAST-MODIFIED:20260420T162250Z
UID:10000227-1789862400-1789948799@www.montanhismo-guarda.pt
SUMMARY:Marcha das Vindimas 2026
DESCRIPTION:
URL:https://www.montanhismo-guarda.pt/portal/evento/marcha-das-vindimas-2026
CATEGORIES:Pedestrianismo
ATTACH;FMTTYPE=image/jpeg:https://www.montanhismo-guarda.pt/portal/wp-content/uploads/2026/01/Cartaz-MarchaVindimas2026-scaled.jpg
END:VEVENT
BEGIN:VEVENT
DTSTART;TZID=Europe/Lisbon:20260926T000000
DTEND;TZID=Europe/Lisbon:20260927T235959
DTSTAMP:20260421T095603
CREATED:20260105T152658Z
LAST-MODIFIED:20260317T213631Z
UID:10000228-1790380800-1790553599@www.montanhismo-guarda.pt
SUMMARY:Los Hermanitos de Hoya Moros
DESCRIPTION:
URL:https://www.montanhismo-guarda.pt/portal/evento/los-hermanitos-de-hoya-moros
CATEGORIES:Montanha
ATTACH;FMTTYPE=image/jpeg:https://www.montanhismo-guarda.pt/portal/wp-content/uploads/2026/01/Cartaz_HermanitosHoyaMoros2026-scaled.jpg
END:VEVENT
BEGIN:VEVENT
DTSTART;TZID=Europe/Lisbon:20261003T000000
DTEND;TZID=Europe/Lisbon:20261005T235959
DTSTAMP:20260421T095603
CREATED:20260105T153512Z
LAST-MODIFIED:20260420T162617Z
UID:10000229-1790985600-1791244799@www.montanhismo-guarda.pt
SUMMARY:Travessia em BTT — Grande Rota do Zêzete (GR22)
DESCRIPTION:
URL:https://www.montanhismo-guarda.pt/portal/evento/btt-grz-gr22
CATEGORIES:BTT,Ciclismo
ATTACH;FMTTYPE=image/jpeg:https://www.montanhismo-guarda.pt/portal/wp-content/uploads/2026/01/Cartaz_BTT-GR22_2026-scaled.jpg
END:VEVENT
BEGIN:VEVENT
DTSTART;TZID=Europe/Lisbon:20261017T000000
DTEND;TZID=Europe/Lisbon:20261018T235959
DTSTAMP:20260421T095604
CREATED:20260105T160300Z
LAST-MODIFIED:20260317T213026Z
UID:10000230-1792195200-1792367999@www.montanhismo-guarda.pt
SUMMARY:Rota Azul 2026
DESCRIPTION:
URL:https://www.montanhismo-guarda.pt/portal/evento/rota-azul-2026
CATEGORIES:Montanha
ATTACH;FMTTYPE=image/jpeg:https://www.montanhismo-guarda.pt/portal/wp-content/uploads/2026/01/Cartaz_RotaAzul2026-scaled.jpg
END:VEVENT
BEGIN:VEVENT
DTSTART;TZID=Europe/Lisbon:20261025T000000
DTEND;TZID=Europe/Lisbon:20261025T235959
DTSTAMP:20260421T095604
CREATED:20260105T160534Z
LAST-MODIFIED:20260420T161651Z
UID:10000231-1792886400-1792972799@www.montanhismo-guarda.pt
SUMMARY:Marcha na Serra da Estrela
DESCRIPTION:
URL:https://www.montanhismo-guarda.pt/portal/evento/marcha-outubro-2026
CATEGORIES:Pedestrianismo
ATTACH;FMTTYPE=image/jpeg:https://www.montanhismo-guarda.pt/portal/wp-content/uploads/2026/01/Cartaz-MarchaOutubro2026-scaled.jpg
END:VEVENT
BEGIN:VEVENT
DTSTART;TZID=Europe/Lisbon:20261108T000000
DTEND;TZID=Europe/Lisbon:20261108T235959
DTSTAMP:20260421T095604
CREATED:20260105T160727Z
LAST-MODIFIED:20260420T161401Z
UID:10000232-1794096000-1794182399@www.montanhismo-guarda.pt
SUMMARY:Marcha do Magusto 2026
DESCRIPTION:
URL:https://www.montanhismo-guarda.pt/portal/evento/marcha-do-magusto
CATEGORIES:Pedestrianismo,Social
ATTACH;FMTTYPE=image/jpeg:https://www.montanhismo-guarda.pt/portal/wp-content/uploads/2026/01/Cartaz-Magusto-2026-scaled.jpg
END:VEVENT
BEGIN:VEVENT
DTSTART;TZID=Europe/Lisbon:20261122T000000
DTEND;TZID=Europe/Lisbon:20261122T235959
DTSTAMP:20260421T095604
CREATED:20260105T161038Z
LAST-MODIFIED:20260323T202807Z
UID:10000233-1795305600-1795391999@www.montanhismo-guarda.pt
SUMMARY:Mariolas\, para que vos quero…
DESCRIPTION:
URL:https://www.montanhismo-guarda.pt/portal/evento/mariolas-para-que-vos-quero
CATEGORIES:Invernal,Montanha
ATTACH;FMTTYPE=image/jpeg:https://www.montanhismo-guarda.pt/portal/wp-content/uploads/2026/01/Cartaz_TravessiaNovembro2026-scaled.jpg
END:VEVENT
BEGIN:VEVENT
DTSTART;TZID=Europe/Lisbon:20261129T000000
DTEND;TZID=Europe/Lisbon:20261129T235959
DTSTAMP:20260421T095604
CREATED:20260105T161420Z
LAST-MODIFIED:20260105T161427Z
UID:10000234-1795910400-1795996799@www.montanhismo-guarda.pt
SUMMARY:Invernal de BTT 2026
DESCRIPTION:
URL:https://www.montanhismo-guarda.pt/portal/evento/invernal-de-btt-2026
CATEGORIES:BTT,Ciclismo,Competição,Social
END:VEVENT
BEGIN:VEVENT
DTSTART;TZID=Europe/Lisbon:20261212T000000
DTEND;TZID=Europe/Lisbon:20261212T235959
DTSTAMP:20260421T095604
CREATED:20260105T161810Z
LAST-MODIFIED:20260420T163509Z
UID:10000235-1797033600-1797119999@www.montanhismo-guarda.pt
SUMMARY:Marcha Comemorativa do Dia Internacional das Montanhas
DESCRIPTION:
URL:https://www.montanhismo-guarda.pt/portal/evento/mini-caminhada-instituicao-palestra-vb-angel-joao-garcia
CATEGORIES:Pedestrianismo,Social
ATTACH;FMTTYPE=image/jpeg:https://www.montanhismo-guarda.pt/portal/wp-content/uploads/2026/01/Cartaz_MarchaDIM_2026_3-scaled.jpg
END:VEVENT
END:VCALENDAR