BEGIN:VCALENDAR
VERSION:2.0
PRODID:-//Clube de Montanhismo da Guarda - ECPv6.15.18//NONSGML v1.0//EN
CALSCALE:GREGORIAN
METHOD:PUBLISH
X-ORIGINAL-URL:https://www.montanhismo-guarda.pt/portal
X-WR-CALDESC:Eventos para Clube de Montanhismo da Guarda
REFRESH-INTERVAL;VALUE=DURATION:PT1H
X-Robots-Tag:noindex
X-PUBLISHED-TTL:PT1H
BEGIN:VTIMEZONE
TZID:Europe/Lisbon
BEGIN:DAYLIGHT
TZOFFSETFROM:+0000
TZOFFSETTO:+0100
TZNAME:WEST
DTSTART:20220327T010000
END:DAYLIGHT
BEGIN:STANDARD
TZOFFSETFROM:+0100
TZOFFSETTO:+0000
TZNAME:WET
DTSTART:20221030T010000
END:STANDARD
BEGIN:DAYLIGHT
TZOFFSETFROM:+0000
TZOFFSETTO:+0100
TZNAME:WEST
DTSTART:20230326T010000
END:DAYLIGHT
BEGIN:STANDARD
TZOFFSETFROM:+0100
TZOFFSETTO:+0000
TZNAME:WET
DTSTART:20231029T010000
END:STANDARD
BEGIN:DAYLIGHT
TZOFFSETFROM:+0000
TZOFFSETTO:+0100
TZNAME:WEST
DTSTART:20240331T010000
END:DAYLIGHT
BEGIN:STANDARD
TZOFFSETFROM:+0100
TZOFFSETTO:+0000
TZNAME:WET
DTSTART:20241027T010000
END:STANDARD
END:VTIMEZONE
BEGIN:VEVENT
DTSTART;TZID=Europe/Lisbon:20230916T000000
DTEND;TZID=Europe/Lisbon:20230917T235959
DTSTAMP:20260421T144050
CREATED:20230512T164058Z
LAST-MODIFIED:20230909T102545Z
UID:10000125-1694822400-1694995199@www.montanhismo-guarda.pt
SUMMARY:Travessia da “Cuerda de las Azagayas”
DESCRIPTION:
URL:https://www.montanhismo-guarda.pt/portal/evento/travessia-da-cuerda-de-las-azagayas
CATEGORIES:Montanha
END:VEVENT
BEGIN:VEVENT
DTSTART;TZID=Europe/Lisbon:20230716T000000
DTEND;TZID=Europe/Lisbon:20230716T235959
DTSTAMP:20260421T144050
CREATED:20230512T162556Z
LAST-MODIFIED:20230711T211123Z
UID:10000124-1689465600-1689551999@www.montanhismo-guarda.pt
SUMMARY:Marcha Serra da Estrela 2023
DESCRIPTION:«Situado nas Penhas Douradas\, mais concretamente no coração da Serra da Estrela a uma altitude de 1437 metros está o maior vale glaciar da Europa\, o Vale do Rossim.» \n\n\n\n\n\n\nPrograma\n\n\n\nDia_167:30Concentração na Sede do CMG e transporte [ver Transporte]9:00Chegada à Praia Fluvial da barragem no Vale do Rossim\, Penhas Douradas e início da actividade.Percurso circular:≈ 3:30 horas de duração≈ 11 kms de distânciaDificuldade física baixaDificuldade técnica baixa/média≈12:30Fim da marcha e início do pic-nic [ver Almoço]≈16:00Regresso à Sede do CMG [ver Transporte]\n\n\n\nEquipamento e Material Aconselhável\n\n\n\nCalçado confortá de caminhada\, corta-vento\,cantil/água\, bastões de camin e mochila com reforço alimentar e… fato-de-banho para o tradicional mergulho na barragem! \n\n\n\nTransporte\n\n\n\nO transporte será em autocarro. \n\n\n\nAlmoço\n\n\n\nNo final da atividade contamos com o habitual almoço/pic-nic para “degustar” dos “nossos farneis”(cada um leva o seu) num momento de alegre e saudável convívio!!! \n\n\n\n\n\nInscrição\n\n\n\nInscrições serão aceites até dia 13 de julho\, através do formulário a que pode aceder mais abaixo. \n\n\n\nA atividade tem lugares limitados. \n\n\n\nComparticipação logística\n\n\n\n\n10€ (para sócios do clube)\n\n\n\n16€ (para não sócios do clube)\n\n\n\n\nObservações\n\n\n\nOs companheiros que não sejam de seguro de acide pessoais\, e que pretendam que o clube trate do mesmo\, devem comunicá-lo no ato da inscrição (preenchimento completo do formulário de inscrição)\, indicando o NIF\, BI/CC\, data de nascimento e contacto telefónico. \n\n\n\nResponsáveis pela Actividade\n\n\n\nJoão Gonçalves (966 478 807) Chamada para rede móvel nacional \n\n\n\nJosé Alberto Martins (965 103 806) Chamada para rede móvel nacional \n\n\n\nPaulo Sanches (962 462 903) Chamada para rede móvel nacional \n\n\n\n\nInscrever
URL:https://www.montanhismo-guarda.pt/portal/evento/multiatividades-vale-rossim
CATEGORIES:Pedestrianismo
ATTACH;FMTTYPE=image/jpeg:https://www.montanhismo-guarda.pt/portal/wp-content/uploads/2023/05/Cartaz_MarchaSerraEstrela_16-07-2023-scaled.jpg
END:VEVENT
BEGIN:VEVENT
DTSTART;TZID=Europe/Lisbon:20230715T200000
DTEND;TZID=Europe/Lisbon:20230716T080000
DTSTAMP:20260421T144050
CREATED:20230516T183048Z
LAST-MODIFIED:20230711T205714Z
UID:10000127-1689451200-1689494400@www.montanhismo-guarda.pt
SUMMARY:Travessia Noturna 2023
DESCRIPTION:Programa\n\n\n\nDia_1520:00Concentração na Sede do CMG e partida≈21:30Chegada à Casa do ASE\, Vale Glaciar do Zêzere e início da actividade.Percurso linear:≈ 8 horas de duração≈ 13 kms de distânciaDificuldade física altaDificuldade técnica baixaDia_16≈5:30Fim da travessia9:00Regresso à Sede do CMG; ou ligação com a Marcha na Serra da Estrela 2023 [ver Participação na Marcha]\n\n\n\nEquipamento e Material Aconselhável\n\n\n\nOs participantes devem prever uma mochila diária (entre os 25 e os 30 litros)\, bastões de caminhada\, lanterna frontal\, botas confortáveis e robustas\, corta-vento (tipo gore-tex\, preferencialmente)\, forro polar\, roupa confortável (preferencialmente fabricada com têxteis sintéticos). \n\n\n\nPercurso\n\n\n\n\nCasa do ASE (Vale Glaciar do Zêzere) – Espinhaço de Cão – Vale da Candeeira – Piornal – Nave da Mestra – Curral do Martins – Vale do Conde – Vale do Rossim\n\n\n\n\n\n\nInscrição\n\n\n\nInscrições serão aceites até dia 13 de julho\, através do formulário a que pode aceder mais abaixo. \n\n\n\nA atividade está limitada a 15 participantes. \n\n\n\nComparticipação logística\n\n\n\n10€ (para sócios do clube) \n\n\n\nObservações\n\n\n\nEsta atividade destina-se exclusivamente a sócios do Clube de Montanhismo da Guarda com experiência em atividades de montanhismo. Todos os participantes deverão obrigatoriamente estar na posse de seguro FPME ou outro que cubra este tipo de atividades. \n\n\n\nParticipação na Marcha\n\n\n\nComo já tem sido habitual nos últimos anos os participantes na Travessia Noturna (os que assim desejarem) podem no dia seguinte juntar-se à marcha dos caminheiros que tem início no local de terminus da mesma. Para tal manifestem a sua vontade aquando da vossa inscrição no lugar “observações”. \n\n\n\nResponsável pela Actividade\n\n\n\nSérgio Pissarra (Contacto: 967 853 399) Chamada para rede móvel nacional \n\n\n\n\nInscrever
URL:https://www.montanhismo-guarda.pt/portal/evento/travessia-noturna-2023
CATEGORIES:Montanha
ATTACH;FMTTYPE=image/jpeg:https://www.montanhismo-guarda.pt/portal/wp-content/uploads/2023/05/Cartaz_Travessia-Noturna-2023_15-07-2023-scaled.jpg
END:VEVENT
BEGIN:VEVENT
DTSTART;TZID=Europe/Lisbon:20230701T000000
DTEND;TZID=Europe/Lisbon:20230702T235959
DTSTAMP:20260421T144050
CREATED:20230512T145724Z
LAST-MODIFIED:20230512T150527Z
UID:10000123-1688169600-1688342399@www.montanhismo-guarda.pt
SUMMARY:Prova de Escalada 2023
DESCRIPTION:
URL:https://www.montanhismo-guarda.pt/portal/evento/prova-de-escalada-2023
CATEGORIES:Competição,Escalada
END:VEVENT
BEGIN:VEVENT
DTSTART;TZID=Europe/Lisbon:20230625T000000
DTEND;TZID=Europe/Lisbon:20230625T235959
DTSTAMP:20260421T144050
CREATED:20230105T120103Z
LAST-MODIFIED:20230611T221125Z
UID:10000122-1687651200-1687737599@www.montanhismo-guarda.pt
SUMMARY:Travessia em Autonomia - Entre Barragens e Lagoas
DESCRIPTION:DURAÇÃO: ± 8 horas  \n\n\n\nDISTÂNCIA: ± 17 km  \n\n\n\nDIFICULDADE TÉCNICA: Baixa \n\n\n\nDIFICULDADE FÍSICA: Alta  \n\n\n\nLOCAL DE SAÍDA: Sede do CMG (Largo do Torreão\, Guarda) \n\n\n\nDIA E HORA: 25 de Junho às 6:00 horas \n\n\n\nINÍCIO DA ACTIVIDADE:  Torre\, Serra da Estrela  \n\n\n\nTAXA DE INSCRIÇÃO: 10€ \n\n\n\nEQUIPAMENTO E MATERIAL ACONSELHÁVEL: Botas confortáveis e robustas\, corta-vento (tipo gore-tex\, preferencialmente)\, roupa confortável (preferencialmente fabricada com têxteis sintéticos) chapéu de abas largas e restante vestuário adequado para este género de travessias em ambiente de montanha estival. No que diz respeito ao material os participantes devem prever uma mochila diária (entre os 25 e os 30 litros)\, bastões de caminhada\, manta de sobrevivência\, pelo menos uma bolsa de primeiros socorros para a totalidade do grupo.  \n\n\n\nPERCURSO:  \n\n\n\n\nTorre – Salgadeiras – Cume – Lagoa Escura – Lagoa Comprida – Barragem do Covão Forno – Lagoa Seca – Lagoa Redonda – Barragem do Lagoacho – Barragem Erva da Fome – Barragem do Vale do Rossim. \n\n\n\n\nOBSERVAÇÕES: Esta atividade destina-se exclusivamente a sócios do Clube de Montanhismo da Guarda com experiência em atividades de montanhismo invernal. Todos os participantes deverão obrigatoriamente estar na posse de seguro FPME ou outro que cubra este tipo de atividades.  \n\n\n\nNOTA IMPORTANTE:  A atividade está limitada a 20 participantes.   \n\n\n\nINSCRIÇÕES: até dia 21 de Junho\, via e-mail  (clube@montanhismo-guarda.pt).  \n\n\n\nRESPONSÁVEIS PELA ACTIVIDADE: Sérgio Pissarra (Contacto: 967 853 399) 
URL:https://www.montanhismo-guarda.pt/portal/evento/travessia-em-autonomia-entre-barragens-e-lagoas
CATEGORIES:Montanha
ATTACH;FMTTYPE=image/jpeg:https://www.montanhismo-guarda.pt/portal/wp-content/uploads/2023/01/Cartaz_Entre-Barragens-e-Lagoas_25-06-2023-scaled.jpg
END:VEVENT
BEGIN:VEVENT
DTSTART;TZID=Europe/Lisbon:20230618T000000
DTEND;TZID=Europe/Lisbon:20230618T235959
DTSTAMP:20260421T144050
CREATED:20230105T115813Z
LAST-MODIFIED:20230601T223840Z
UID:10000121-1687046400-1687132799@www.montanhismo-guarda.pt
SUMMARY:Marcha em Sortelha
DESCRIPTION:Sortelha é uma das mais belas e antigas vilas portuguesas\, tendo mantido a sua fisionomia urbana e arquitectónica inalterada desde o renascimento até aos nossos dias. A visita pelas ruas e vielas do aglomerado\, enclausuradas por um anel defensivo\, e vigiadas por um sobranceiro castelo do século XIII\, possibilita ao forasteiro recuar aos séculos passados\, por entre as sepulturas medievais\, junto ao pelourinho manuelino ou defronte à igreja renascentista. \n\n\n\n\nMais informações serão em breve.
URL:https://www.montanhismo-guarda.pt/portal/evento/marcha-em-sortelha
CATEGORIES:Pedestrianismo
ATTACH;FMTTYPE=image/jpeg:https://www.montanhismo-guarda.pt/portal/wp-content/uploads/2023/06/Cartaz_Sortelha_18-06-2023-scaled.jpg
END:VEVENT
BEGIN:VEVENT
DTSTART;TZID=Europe/Lisbon:20230521T000000
DTEND;TZID=Europe/Lisbon:20230521T235959
DTSTAMP:20260421T144050
CREATED:20230105T112808Z
LAST-MODIFIED:20230508T190404Z
UID:10000118-1684627200-1684713599@www.montanhismo-guarda.pt
SUMMARY:Marcha “Rota da Cereja” - Trilho dos Abraços
DESCRIPTION:
URL:https://www.montanhismo-guarda.pt/portal/evento/marcha-rota-da-cereja-trilho-dos-abracos
CATEGORIES:Pedestrianismo
ATTACH;FMTTYPE=image/jpeg:https://www.montanhismo-guarda.pt/portal/wp-content/uploads/2023/01/WhatsApp-Image-2023-05-08-at-19.09.37.jpeg
END:VEVENT
BEGIN:VEVENT
DTSTART;TZID=Europe/Lisbon:20230513T000000
DTEND;TZID=Europe/Lisbon:20230514T235959
DTSTAMP:20260421T144050
CREATED:20230105T115351Z
LAST-MODIFIED:20230516T185537Z
UID:10000120-1683936000-1684108799@www.montanhismo-guarda.pt
SUMMARY:Travessia em Autonomia\, “Das Lagunas del Trampal à Laguna del Duque”
DESCRIPTION:Programa\n\n\n\nDia_137:00PRTConcentração na Sede do CMG e partida14:00ESPChegada a Central del Chorro\, Solana de Ávila e início da actividade.Percurso circular:≈ 3:30 de duração≈ 6 kms de distânciaDificuldade física altaDificuldade técnica baixa~:~Pernoita nas Lagunas del TrampalDia_14Continuação da actividade:≈ 8 horas de duração≈ 8 kms de distânciaDificuldade física altaDificuldade técnica baixa~:~Regresso à Sede do CMG\n\n\n\nEquipamento e Material Aconselhável\n\n\n\nTenda ou saco vivac\, saco-cama\, colchonete\, lanterna frontal\, fogão (facultativo) e mochila de travessia. No que diz respeito ao equipamento os participantes terão que estar na posse de roupa e calçado adequado para este género de atividades em ambiente de montanha\, como por exemplo\, botas para montanhismo\, bastões\, polainas\, roupa confortável\, corta-vento (tipo gore-tex\, preferencialmente). Apesar da atividade se realizar em período já primaveril nunca é demais lembrar que na montanha a temperatura pode baixar consideravelmente durante a noite e mesmo durante o dia\, os participantes devem prever\, gorro\, luvas e forro polar quente (ou equivalente) e restante vestuário adequado. O reforço alimentar terá que prever víveres para uma atividade em autonomia total de dois dias em ambiente de montanha. \n\n\n\nPercurso\n\n\n\n\nDia 13\n\nCentral del Chorro – Garganta del Trampal – Lagunas del Trampal\n\n\n\n\n\nDia 14\n\nLagunas del Trampal – Canchal de la Ceja – Cuerda de la Ceja – Laguna del Duque – Central del Chorro\n\n\n\n\n\n\n\n\nInscrição\n\n\n\nInscrições para o email do clube: clube@montanhismo-guarda.pt. \n\n\n\nA atividade está limitada a 12 participantes. \n\n\n\nComparticipação logística\n\n\n\n20€ (para sócios do clube) \n\n\n\nObservações\n\n\n\nEsta atividade destina-se exclusivamente a sócios do Clube de Montanhismo da Guarda com experiência e autonomia individual em atividades de montanhismo. Todos os participantes deverão obrigatoriamente estar na posse de seguro FPME ou outro que cubra este tipo de atividades. \n\n\n\nResponsáveis pela Actividade\n\n\n\nSérgio Pissarra (Contacto: 967 853 399) \n\n\n\nPaulo Sanches (Contacto: 962 462 903) \n\n\n\nRicardo Martins (Contacto: 96 43 43 088)
URL:https://www.montanhismo-guarda.pt/portal/evento/travessia-em-autonomia-2023
CATEGORIES:Montanha
ATTACH;FMTTYPE=image/jpeg:https://www.montanhismo-guarda.pt/portal/wp-content/uploads/2023/05/WhatsApp-Image-2023-05-08-at-19.09.25.jpeg
END:VEVENT
BEGIN:VEVENT
DTSTART;TZID=Europe/Lisbon:20230422T000000
DTEND;TZID=Europe/Lisbon:20230425T235959
DTSTAMP:20260421T144050
CREATED:20230104T110126Z
LAST-MODIFIED:20230330T193624Z
UID:10000110-1682121600-1682467199@www.montanhismo-guarda.pt
SUMMARY:Projecto Multiatividades 2023
DESCRIPTION:Informações muito em breve.
URL:https://www.montanhismo-guarda.pt/portal/evento/projecto-multiatividades-2023
CATEGORIES:Multiatividade
ATTACH;FMTTYPE=image/jpeg:https://www.montanhismo-guarda.pt/portal/wp-content/uploads/2023/03/Cartaz_Multiatividades_abril2023-scaled.jpg
END:VEVENT
END:VCALENDAR